BEGIN:VCALENDAR
PRODID:-//hacksw/handcal//NONSGML v1.0//EN
VERSION:2.0
METHOD:PUBLISH
BEGIN:VEVENT
DTSTART:20260423T220000Z
DTEND:20260424T000000Z
LOCATION:Cherry Hills Country Club, 4125 S. University Blvd. Cherry Hills Village, CO 80113
UID:2902020260423T220000ZDEPC Meeting: Happy Hour!
DTSTAMP:20260421T135453Z
DESCRIPTION:
SUMMARY:DEPC Meeting: Happy Hour! - Denver Estate Planning Council 
PRIORITY:3
BEGIN:VALARM
TRIGGER:PT18H
ACTION:DISPLAY
DESCRIPTION:Reminder
END:VALARM
END:VEVENT
END:VCALENDAR